BEGIN:VCALENDAR
VERSION:2.0
PRODID:-//Songbird Station: - ECPv6.13.2.1//NONSGML v1.0//EN
CALSCALE:GREGORIAN
METHOD:PUBLISH
X-ORIGINAL-URL:https://songbirdstation.com
X-WR-CALDESC:Events for Songbird Station:
REFRESH-INTERVAL;VALUE=DURATION:PT1H
X-Robots-Tag:noindex
X-PUBLISHED-TTL:PT1H
BEGIN:VTIMEZONE
TZID:UTC
BEGIN:STANDARD
TZOFFSETFROM:+0000
TZOFFSETTO:+0000
TZNAME:UTC
DTSTART:20200101T000000
END:STANDARD
END:VTIMEZONE
BEGIN:VEVENT
DTSTART;TZID=UTC:20200321T100000
DTEND;TZID=UTC:20200321T100000
DTSTAMP:20260420T174448
CREATED:20200206T233816Z
LAST-MODIFIED:20200323T173459Z
UID:837-1584784800-1584784800@songbirdstation.com
SUMMARY:Bluebird & Tree Swallow Seminar by Bird Man Mel
DESCRIPTION:Bird Man Mel’s “Bluebirds and Tree Swallows” Seminar will no longer be an in-store event\, rather it will take place on Facebook Live March 21st at 10:00 a.m. You can still ask questions in the comments or send us a message ahead of time and we will have an answer ready for you!\n\nHow can I view the video?\n\n1. Be sure to “like” us on Facebook by Clicking Here  to view our page.\n2. On Saturday\, March 21st at 10:00 a.m. from your News Feed\, click Watch on the left.\n3. Click Live below Watch on the left.\n4. Click Here  for more instructions from Facebook.com.
URL:https://songbirdstation.com/event/bluebird-tree-swallow-seminar-by-bird-man/
LOCATION:Songbird Station!\, 2010 Chapel Plaza Court Suite C\,\, Columbia\, MO\, 65203\, United States
END:VEVENT
END:VCALENDAR