BEGIN:VCALENDAR
VERSION:2.0
PRODID:-//Songbird Station: - ECPv6.13.2.1//NONSGML v1.0//EN
CALSCALE:GREGORIAN
METHOD:PUBLISH
X-ORIGINAL-URL:https://songbirdstation.com
X-WR-CALDESC:Events for Songbird Station:
REFRESH-INTERVAL;VALUE=DURATION:PT1H
X-Robots-Tag:noindex
X-PUBLISHED-TTL:PT1H
BEGIN:VTIMEZONE
TZID:UTC
BEGIN:STANDARD
TZOFFSETFROM:+0000
TZOFFSETTO:+0000
TZNAME:UTC
DTSTART:20210101T000000
END:STANDARD
END:VTIMEZONE
BEGIN:VEVENT
DTSTART;TZID=UTC:20211027T084000
DTEND;TZID=UTC:20211027T090000
DTSTAMP:20260419T131840
CREATED:20211027T124454Z
LAST-MODIFIED:20211027T130400Z
UID:1225-1635324000-1635325200@songbirdstation.com
SUMMARY:October 27th - Mel is on KFRU with David Lile!
DESCRIPTION:Mel will be on the Morning Show with David Lile this morning from 8:40am until 9:00am. Call in with your questions! Tune in to 98.9FM or 1400am to listen live!
URL:https://songbirdstation.com/event/10-27-mel-is-on-kfru-with-david-lile/
END:VEVENT
END:VCALENDAR