BEGIN:VCALENDAR
VERSION:2.0
PRODID:-//Songbird Station: - ECPv6.13.2.1//NONSGML v1.0//EN
CALSCALE:GREGORIAN
METHOD:PUBLISH
X-WR-CALNAME:Songbird Station:
X-ORIGINAL-URL:https://songbirdstation.com
X-WR-CALDESC:Events for Songbird Station:
REFRESH-INTERVAL;VALUE=DURATION:PT1H
X-Robots-Tag:noindex
X-PUBLISHED-TTL:PT1H
BEGIN:VTIMEZONE
TZID:UTC
BEGIN:STANDARD
TZOFFSETFROM:+0000
TZOFFSETTO:+0000
TZNAME:UTC
DTSTART:20210101T000000
END:STANDARD
END:VTIMEZONE
BEGIN:VEVENT
DTSTART;TZID=UTC:20211029T093000
DTEND;TZID=UTC:20211030T180000
DTSTAMP:20260419T131646
CREATED:20211006T165541Z
LAST-MODIFIED:20211007T152544Z
UID:1192-1635499800-1635616800@songbirdstation.com
SUMMARY:25th Years Plus 1 Anniversary Event - October 29th & 30th
DESCRIPTION:Friday\, October 29\n	–Cash & Carry Truckload Seed Sale – All Day\n	–Kids Activities from 4pm to 6pm\nSaturday\, October 30\n	–Cash & Carry Truckload Seed Sale – All Day\n–Bird Walk – Leaves Store at 8:30am\n	–Raptors from MU Rehabilitation Center from 11am to 1pm\n	–Kids Activities from 11am to 1pm\n	–Jim & Julie Lundstead’s Seminar “All About Owls” from 2pm to 3pm \nSpecials:\n25% off All Dr. JB Feeders\n25% off All Dried Mealworms\n25% off All GE Blue Handworks Chimes\n25% off SE6019 and SE6020\n25% off BE160 and BE161 Cage Feeders\n25% off SE324\, SE324Y\, and SE324YC\n25% off BE167 and BE168\n25% off SE905 Ultimate Oriole Feeder\n25% off GE Puzzles \nFree Gift with Purchase:(while supplies last)\nSEEK7606	Thermal Mug “You Want Want When”
URL:https://songbirdstation.com/event/25th-years-plus-1-anniversary-event-october-29th-30th/
LOCATION:2010 Chapel Plaza Ct Ste C\, Columbia\, Missouri 65203\, 2010 Chapel Plaza Court Suite C\,\, Columbia\, MO\, 65203\, United States
END:VEVENT
END:VCALENDAR