BEGIN:VCALENDAR
VERSION:2.0
PRODID:-//Songbird Station: - ECPv6.13.2.1//NONSGML v1.0//EN
CALSCALE:GREGORIAN
METHOD:PUBLISH
X-ORIGINAL-URL:https://songbirdstation.com
X-WR-CALDESC:Events for Songbird Station:
REFRESH-INTERVAL;VALUE=DURATION:PT1H
X-Robots-Tag:noindex
X-PUBLISHED-TTL:PT1H
BEGIN:VTIMEZONE
TZID:UTC
BEGIN:STANDARD
TZOFFSETFROM:+0000
TZOFFSETTO:+0000
TZNAME:UTC
DTSTART:20250101T000000
END:STANDARD
END:VTIMEZONE
BEGIN:VEVENT
DTSTART;TZID=UTC:20251018T080000
DTEND;TZID=UTC:20251018T120000
DTSTAMP:20260421T141546
CREATED:20250808T165416Z
LAST-MODIFIED:20251008T145949Z
UID:3891-1760774400-1760788800@songbirdstation.com
SUMMARY:Garage Sale
DESCRIPTION: 
URL:https://songbirdstation.com/event/garage-sale-2/
LOCATION:Gold Crest Distributing Main Warehouse\, 1600 Bassford Drive\, Mexico\, MO\, United States
END:VEVENT
END:VCALENDAR