BEGIN:VCALENDAR
VERSION:2.0
PRODID:-//Songbird Station: - ECPv6.13.2.1//NONSGML v1.0//EN
CALSCALE:GREGORIAN
METHOD:PUBLISH
X-WR-CALNAME:Songbird Station:
X-ORIGINAL-URL:https://songbirdstation.com
X-WR-CALDESC:Events for Songbird Station:
REFRESH-INTERVAL;VALUE=DURATION:PT1H
X-Robots-Tag:noindex
X-PUBLISHED-TTL:PT1H
BEGIN:VTIMEZONE
TZID:UTC
BEGIN:STANDARD
TZOFFSETFROM:+0000
TZOFFSETTO:+0000
TZNAME:UTC
DTSTART:20250101T000000
END:STANDARD
END:VTIMEZONE
BEGIN:VEVENT
DTSTART;VALUE=DATE:20251024
DTEND;VALUE=DATE:20251026
DTSTAMP:20260421T141515
CREATED:20250808T165541Z
LAST-MODIFIED:20251021T195259Z
UID:3894-1761264000-1761436799@songbirdstation.com
SUMMARY:Truckload Seed Sale
DESCRIPTION:Our Annual Truckload Seed Sale will be held October 24 & 25.  \n \nJoin us on October 24 & 25 to save BIG on super Clean Seed Mixes formulated for Central MO Birds! \nThe sale offers fantastic value on our high quality seed and seed blends.  Plan to stock up! \nFind more deals in-store during the sale! \n  \n 
URL:https://songbirdstation.com/event/truckload-seed-sale-3/
END:VEVENT
END:VCALENDAR