BEGIN:VCALENDAR
VERSION:2.0
PRODID:-//Songbird Station: - ECPv6.13.2.1//NONSGML v1.0//EN
CALSCALE:GREGORIAN
METHOD:PUBLISH
X-WR-CALNAME:Songbird Station:
X-ORIGINAL-URL:https://songbirdstation.com
X-WR-CALDESC:Events for Songbird Station:
REFRESH-INTERVAL;VALUE=DURATION:PT1H
X-Robots-Tag:noindex
X-PUBLISHED-TTL:PT1H
BEGIN:VTIMEZONE
TZID:UTC
BEGIN:STANDARD
TZOFFSETFROM:+0000
TZOFFSETTO:+0000
TZNAME:UTC
DTSTART:20250101T000000
END:STANDARD
END:VTIMEZONE
BEGIN:VEVENT
DTSTART;VALUE=DATE:20251214
DTEND;VALUE=DATE:20260106
DTSTAMP:20260421T111310
CREATED:20251205T195813Z
LAST-MODIFIED:20251205T195813Z
UID:4080-1765670400-1767657599@songbirdstation.com
SUMMARY:The Christmas Bird Count begins December 14th!
DESCRIPTION:More than a century of community data powers Audubon science. The nation’s longest-running community science bird project fuels Audubon’s work throughout the year. The Christmas Bird Count occurs December 14 to January 5 every season. Find a count near you \, or contact your local Audubon. For more information\, click the link below. \n Join the Count!
URL:https://songbirdstation.com/event/the-christmas-bird-count-begins-december-14th/
END:VEVENT
END:VCALENDAR