BEGIN:VCALENDAR
VERSION:2.0
PRODID:-//Songbird Station: - ECPv6.13.2.1//NONSGML v1.0//EN
CALSCALE:GREGORIAN
METHOD:PUBLISH
X-ORIGINAL-URL:https://songbirdstation.com
X-WR-CALDESC:Events for Songbird Station:
REFRESH-INTERVAL;VALUE=DURATION:PT1H
X-Robots-Tag:noindex
X-PUBLISHED-TTL:PT1H
BEGIN:VTIMEZONE
TZID:UTC
BEGIN:STANDARD
TZOFFSETFROM:+0000
TZOFFSETTO:+0000
TZNAME:UTC
DTSTART:20260101T000000
END:STANDARD
END:VTIMEZONE
BEGIN:VEVENT
DTSTART;TZID=UTC:20260312T091500
DTEND;TZID=UTC:20260312T091500
DTSTAMP:20260421T063116
CREATED:20260225T185416Z
LAST-MODIFIED:20260225T185416Z
UID:4272-1773306900-1773306900@songbirdstation.com
SUMMARY:Bird Man Mel Joins Simon Rose on The Morning Meeting March 12th
DESCRIPTION:Mel will be joining Simon Rose on The Morning Meeting March 12th! Tune in at 9:15 to listen! \nTune into KFRU 98.9 FM /AM 1400 for tips on Hummingbirds\, attracting birds with water this summer\, and how to deter squirrels from your feeders! \nCall in with questions for Mel and join the show! Dial 573-442-8255 \nTo stream the show live on the KRFU site\, follow this link : https://player.kfru.com/ \nHe would love to meet you\,  answer your questions\,  offer personal yard analysis and recommendations to help you attract more birds\, bees\, butterflies and even bats! \nLet us help you make your backyard a place of natural wonder this summer! \nIf you miss Mel live with Simon\, you can listen to the podcast after the show here! https://www.kfru.com/morningmeeting/
URL:https://songbirdstation.com/event/bird-man-mel-joins-simon-rose-on-the-morning-meeting-march-12th/
END:VEVENT
END:VCALENDAR