BEGIN:VCALENDAR
VERSION:2.0
PRODID:-//Songbird Station: - ECPv6.13.2.1//NONSGML v1.0//EN
CALSCALE:GREGORIAN
METHOD:PUBLISH
X-WR-CALNAME:Songbird Station:
X-ORIGINAL-URL:https://songbirdstation.com
X-WR-CALDESC:Events for Songbird Station:
REFRESH-INTERVAL;VALUE=DURATION:PT1H
X-Robots-Tag:noindex
X-PUBLISHED-TTL:PT1H
BEGIN:VTIMEZONE
TZID:UTC
BEGIN:STANDARD
TZOFFSETFROM:+0000
TZOFFSETTO:+0000
TZNAME:UTC
DTSTART:20260101T000000
END:STANDARD
END:VTIMEZONE
BEGIN:VEVENT
DTSTART;TZID=UTC:20260314T100000
DTEND;TZID=UTC:20260314T100000
DTSTAMP:20260421T063008
CREATED:20241106T213358Z
LAST-MODIFIED:20260227T192429Z
UID:3591-1773482400-1773482400@songbirdstation.com
SUMMARY:Nest Box 101 Seminar
DESCRIPTION:Join us for a free seminar hosted by Bird Man Mel as he shares tips on how to make your yard a perfect nesting site for Bluebirds\, Wrens\, Purple Martins\, Wood Ducks\, and more. \nExplore Bluebird Houses\, feeders\, gifts & decor here!
URL:https://songbirdstation.com/event/nest-box-101-seminar/
LOCATION:Songbird Station!\, 2010 Chapel Plaza Court Suite C\,\, Columbia\, MO\, 65203\, United States
END:VEVENT
END:VCALENDAR