BEGIN:VCALENDAR
VERSION:2.0
PRODID:-//Songbird Station: - ECPv6.13.2.1//NONSGML v1.0//EN
CALSCALE:GREGORIAN
METHOD:PUBLISH
X-WR-CALNAME:Songbird Station:
X-ORIGINAL-URL:https://songbirdstation.com
X-WR-CALDESC:Events for Songbird Station:
REFRESH-INTERVAL;VALUE=DURATION:PT1H
X-Robots-Tag:noindex
X-PUBLISHED-TTL:PT1H
BEGIN:VTIMEZONE
TZID:UTC
BEGIN:STANDARD
TZOFFSETFROM:+0000
TZOFFSETTO:+0000
TZNAME:UTC
DTSTART:20260101T000000
END:STANDARD
END:VTIMEZONE
BEGIN:VEVENT
DTSTART;TZID=UTC:20260411T100000
DTEND;TZID=UTC:20260411T100000
DTSTAMP:20260421T050237
CREATED:20240228T135836Z
LAST-MODIFIED:20260312T154959Z
UID:3272-1775901600-1775901600@songbirdstation.com
SUMMARY:Attract Hummingbirds\, Orioles & More Seminar
DESCRIPTION:Join us for a free seminar hosted by Bird Man Mel as he gives tips and tricks to use this spring to make your yard a must stop for all your favorite migrating birds.
URL:https://songbirdstation.com/event/attract-hummingbirds-orioles-and-more-seminar/
LOCATION:Songbird Station!\, 2010 Chapel Plaza Court Suite C\,\, Columbia\, MO\, 65203\, United States
END:VEVENT
END:VCALENDAR