BEGIN:VCALENDAR
VERSION:2.0
PRODID:-//Songbird Station: - ECPv6.13.2.1//NONSGML v1.0//EN
CALSCALE:GREGORIAN
METHOD:PUBLISH
X-WR-CALNAME:Songbird Station:
X-ORIGINAL-URL:https://songbirdstation.com
X-WR-CALDESC:Events for Songbird Station:
REFRESH-INTERVAL;VALUE=DURATION:PT1H
X-Robots-Tag:noindex
X-PUBLISHED-TTL:PT1H
BEGIN:VTIMEZONE
TZID:UTC
BEGIN:STANDARD
TZOFFSETFROM:+0000
TZOFFSETTO:+0000
TZNAME:UTC
DTSTART:20200101T000000
END:STANDARD
END:VTIMEZONE
BEGIN:VEVENT
DTSTART;TZID=UTC:20200404T100000
DTEND;TZID=UTC:20200404T100000
DTSTAMP:20260420T144509
CREATED:20200206T233859Z
LAST-MODIFIED:20200402T220918Z
UID:839-1585994400-1585994400@songbirdstation.com
SUMMARY:Facebook Live- Attracting Hummingbirds
DESCRIPTION:Join us for a FREE seminar presented by Bird Man Mel. Attracting colorful birds to your yard can be easy. Join Bird Man Mel as he discusses all of the tips and tricks to attracting these beautiful birds. \nReservations are requested\, but not required so we can have plenty of chairs\, refreshments\, and handouts. Specials on products presented during seminars on seminar day only! \nJoin Bird Man Mel on Facebook Live
URL:https://songbirdstation.com/event/facebook-live-attracting-hummingbirds/
LOCATION:Songbird Station!\, 2010 Chapel Plaza Court Suite C\,\, Columbia\, MO\, 65203\, United States
END:VEVENT
BEGIN:VEVENT
DTSTART;TZID=UTC:20200411T100000
DTEND;TZID=UTC:20200411T100000
DTSTAMP:20260420T144509
CREATED:20200324T161552Z
LAST-MODIFIED:20200331T155645Z
UID:884-1586599200-1586599200@songbirdstation.com
SUMMARY:Facebook Live - Attracting Orioles
DESCRIPTION:Learn all of the tips and tricks to seeing Orange in your yard! Bird Man Mel talks Attracting Orioles on Facebook Live\, April 18th at 10:00 a.m.
URL:https://songbirdstation.com/event/facebook-live-attracting-orioles/
LOCATION:2010 Chapel Plaza Ct Ste C\, Columbia\, Missouri 65203\, 2010 Chapel Plaza Court Suite C\,\, Columbia\, MO\, 65203\, United States
END:VEVENT
BEGIN:VEVENT
DTSTART;TZID=UTC:20200418T100000
DTEND;TZID=UTC:20200418T110000
DTSTAMP:20260420T144509
CREATED:20200324T161030Z
LAST-MODIFIED:20200331T160036Z
UID:881-1587204000-1587207600@songbirdstation.com
SUMMARY:Squirrel Defeating - Beating Harry Houdini
DESCRIPTION:Join Bird Man Mel on Facebook Live as he discusses ways to stop those pesky squirrels from munching on your seed! Are you a squirrel lover? No worries\, he will have tips and tricks for you as well. PLUS He is giving away some awesome prizes during the Live broadcast so don’t miss out!
URL:https://songbirdstation.com/event/facebook-live-kids-activities-to-learn-and-enjoy-nature/
LOCATION:2010 Chapel Plaza Ct Ste C\, Columbia\, Missouri 65203\, 2010 Chapel Plaza Court Suite C\,\, Columbia\, MO\, 65203\, United States
END:VEVENT
END:VCALENDAR