BEGIN:VCALENDAR
VERSION:2.0
PRODID:-//Songbird Station: - ECPv6.13.2.1//NONSGML v1.0//EN
CALSCALE:GREGORIAN
METHOD:PUBLISH
X-WR-CALNAME:Songbird Station:
X-ORIGINAL-URL:https://songbirdstation.com
X-WR-CALDESC:Events for Songbird Station:
REFRESH-INTERVAL;VALUE=DURATION:PT1H
X-Robots-Tag:noindex
X-PUBLISHED-TTL:PT1H
BEGIN:VTIMEZONE
TZID:UTC
BEGIN:STANDARD
TZOFFSETFROM:+0000
TZOFFSETTO:+0000
TZNAME:UTC
DTSTART:20200101T000000
END:STANDARD
END:VTIMEZONE
BEGIN:VEVENT
DTSTART;VALUE=DATE:20201020
DTEND;VALUE=DATE:20201021
DTSTAMP:20260420T050230
CREATED:20200915T231323Z
LAST-MODIFIED:20200915T231337Z
UID:1145-1603152000-1603238399@songbirdstation.com
SUMMARY:The Songbird Station 2021 Photo Calendar Contest Deadline
DESCRIPTION:Deadline for Submission Closes October 20th. Winners will be announced on October 24th at 10AM during the 25th Anniversary Celebration of the Store. \nClick here for Photo Contest rules and details
URL:https://songbirdstation.com/event/the-songbird-station-2021-photo-calendar-contest-deadline/
END:VEVENT
BEGIN:VEVENT
DTSTART;VALUE=DATE:20201024
DTEND;VALUE=DATE:20201025
DTSTAMP:20260420T050230
CREATED:20200915T130803Z
LAST-MODIFIED:20200915T231450Z
UID:1140-1603497600-1603583999@songbirdstation.com
SUMMARY:25th Anniversary Celebration
DESCRIPTION:25th Songbird Station Anniversary Celebration!\nSaturday October 24\, 2020 \n\n10:00 am Photo Contest Winners Announced\n1 pm to 3 pm Wild Bird Raptor Rehabilitation Program. Visit the Education birds of the University of Missouri Raptor Rehabilitation Project in store\nBird Man Mel will Be On Hand!\n\nClick here for Photo Contest rules and details
URL:https://songbirdstation.com/event/25th-anniversary-celebration/
END:VEVENT
END:VCALENDAR