BEGIN:VCALENDAR
VERSION:2.0
PRODID:-//Songbird Station: - ECPv6.13.2.1//NONSGML v1.0//EN
CALSCALE:GREGORIAN
METHOD:PUBLISH
X-ORIGINAL-URL:https://songbirdstation.com
X-WR-CALDESC:Events for Songbird Station:
REFRESH-INTERVAL;VALUE=DURATION:PT1H
X-Robots-Tag:noindex
X-PUBLISHED-TTL:PT1H
BEGIN:VTIMEZONE
TZID:UTC
BEGIN:STANDARD
TZOFFSETFROM:+0000
TZOFFSETTO:+0000
TZNAME:UTC
DTSTART:20250101T000000
END:STANDARD
END:VTIMEZONE
BEGIN:VEVENT
DTSTART;TZID=UTC:20250705T080000
DTEND;TZID=UTC:20250705T080000
DTSTAMP:20260421T170617
CREATED:20250609T145658Z
LAST-MODIFIED:20250611T125125Z
UID:3856-1751702400-1751702400@songbirdstation.com
SUMMARY:First Saturday Bird Walk!
DESCRIPTION:In July\, First Friday falls on Independence Day. The store will be closed in observance of the holiday and our First Friday Bird Walk will move to Saturday\, July 5th.  Join us! Walks are open to anyone who enjoys birds and beginners are encouraged to attend.  Meet at the Songbird Station Parking lot at 8 a.m. sharp and then we will drive down the hill to park near the wetlands\, less than a 5-minute drive. Waterproof shoes are recommended\, but not required. After our walk we’ll return to Songbird Station by 11:00 and enjoy refreshments and the good company. Don’t forget \, you are able to take a pair of our binoculars for a test drive during the walks- just ask!
URL:https://songbirdstation.com/event/first-friday-bird-walks-july/
END:VEVENT
BEGIN:VEVENT
DTSTART;TZID=UTC:20250725T080000
DTEND;TZID=UTC:20250725T150000
DTSTAMP:20260421T170617
CREATED:20250701T133713Z
LAST-MODIFIED:20250721T200514Z
UID:3866-1753430400-1753455600@songbirdstation.com
SUMMARY:Summer Garage Sale @ the Gold Crest Distributing Warehouse!
DESCRIPTION:July 25th & 26th\, our Summer Garage Sale will be held at the Gold Crest Distributing Warehouse in Mexico\, MO. \nJuly 25th  hours are 8AM to 3PM. \nJuly 26th  hours are 8AM to Noon \nJoin us for deals and excellent bargains on bird feeders\, houses\, decor\, seasonal gifts and entertaining accessories as we make room for new goods on our warehouse shelves. \nIts like Christmas in July! Come early for best selection! \nGold Crest Distributing Warehouse Location: \n1600 Bassford Drive \nMexico\, MO 65265 \n 
URL:https://songbirdstation.com/event/summer-garage-sale-the-gold-crest-distributing-warehouse/
LOCATION:Gold Crest Distributing Main Warehouse\, 1600 Bassford Drive\, Mexico\, MO\, United States
ATTACH;FMTTYPE=image/jpeg:https://songbirdstation.com/wp-content/uploads/2025/07/GetAttachmentThumbnail-2.jpg
END:VEVENT
BEGIN:VEVENT
DTSTART;TZID=UTC:20250726T080000
DTEND;TZID=UTC:20250726T120000
DTSTAMP:20260421T170617
CREATED:20250701T191836Z
LAST-MODIFIED:20250701T191954Z
UID:3870-1753516800-1753531200@songbirdstation.com
SUMMARY:Day 2 of the Summer Garage Sale @ the Gold Crest Distributing Warehouse!
DESCRIPTION:July 26th  is Day 2 our Summer Garage Sale! Come check out the sale at the Gold Crest Distributing Warehouse in Mexico\, MO. \nJuly 26th  hours are 8AM to Noon \nJoin us for deals and excellent bargains on bird feeders\, houses\, decor\, seasonal gifts and entertaining accessories as we make room for new goods on our warehouse shelves. \nIts like Christmas in July! Come early for best selection! \nGold Crest Distributing Warehouse Location: \n1600 Bassford Drive \nMexico\, MO 65265
URL:https://songbirdstation.com/event/3870/
LOCATION:Gold Crest Distributing Main Warehouse\, 1600 Bassford Drive\, Mexico\, MO\, United States
END:VEVENT
END:VCALENDAR