BEGIN:VCALENDAR
VERSION:2.0
PRODID:-//Songbird Station: - ECPv6.13.2.1//NONSGML v1.0//EN
CALSCALE:GREGORIAN
METHOD:PUBLISH
X-WR-CALNAME:Songbird Station:
X-ORIGINAL-URL:https://songbirdstation.com
X-WR-CALDESC:Events for Songbird Station:
REFRESH-INTERVAL;VALUE=DURATION:PT1H
X-Robots-Tag:noindex
X-PUBLISHED-TTL:PT1H
BEGIN:VTIMEZONE
TZID:UTC
BEGIN:STANDARD
TZOFFSETFROM:+0000
TZOFFSETTO:+0000
TZNAME:UTC
DTSTART:20250101T000000
END:STANDARD
END:VTIMEZONE
BEGIN:VEVENT
DTSTART;VALUE=DATE:20251101
DTEND;VALUE=DATE:20251103
DTSTAMP:20260421T111403
CREATED:20250808T165506Z
LAST-MODIFIED:20250910T135209Z
UID:3896-1761955200-1762127999@songbirdstation.com
SUMMARY:Fall Into Art
DESCRIPTION:Fall into Art is a vibrant two-day festival celebrating local and regional artists\, hosted by the Columbia Art League. This dynamic event showcases an incredible variety of fine art\, handmade crafts\, and unique gifts\, perfect for art lovers and early holiday shoppers alike. \nFall into Art carefully curates a diverse selection of exceptional artisans and small businesses\, focusing on handmade\, made-in-the-US\, non-perishable products to ensure a unique shopping experience. The selection committee evaluates applicants based on design\, craftsmanship\, location\, and willingness to engage in marketing initiatives. \nWhether you’re looking to add a one-of-a-kind piece to your collection or simply soak in the creative energy\, Fall into Art is the perfect way to welcome the season. Don’t miss this opportunity to support the arts and discover something truly special! \nDate: Nov 1 & 2\, 2025\nLocation: Wyndham Executive Center\, (formerly Holiday Inn Expo Center; 2200 Interstate 70 Dr SW\, Columbia\, MO 65203)\nShow Hours:\nSaturday\, Nov 1st\, 10 a.m. to 5 p.m.\nSunday\, Nov 2nd\, 10 a.m. to 4 p.m.
URL:https://songbirdstation.com/event/fall-into-art/
LOCATION:Wyndham Executive Center\, 2200 Interstate 70 Dr SW\, Columbia\, MO\, 65203\, United States
ATTACH;FMTTYPE=image/jpeg:https://songbirdstation.com/wp-content/uploads/2025/08/FallIntoArtLogosmallest-1.jpg
END:VEVENT
END:VCALENDAR